BEGIN:VCALENDAR
VERSION:2.0
PRODID:-//Perinteinen - ECPv5.14.0.4//NONSGML v1.0//EN
CALSCALE:GREGORIAN
METHOD:PUBLISH
X-WR-CALNAME:Perinteinen
X-ORIGINAL-URL:https://pphsrk.fi
X-WR-CALDESC:Events for Perinteinen
REFRESH-INTERVAL;VALUE=DURATION:PT1H
X-Robots-Tag:noindex
X-PUBLISHED-TTL:PT1H
BEGIN:VTIMEZONE
TZID:Europe/Helsinki
BEGIN:DAYLIGHT
TZOFFSETFROM:+0200
TZOFFSETTO:+0300
TZNAME:EEST
DTSTART:20230326T010000
END:DAYLIGHT
BEGIN:STANDARD
TZOFFSETFROM:+0300
TZOFFSETTO:+0200
TZNAME:EET
DTSTART:20231029T010000
END:STANDARD
END:VTIMEZONE
BEGIN:VEVENT
DTSTART;TZID=Europe/Helsinki:20230716T160000
DTEND;TZID=Europe/Helsinki:20230716T173000
DTSTAMP:20260421T111151
CREATED:20230705T173928Z
LAST-MODIFIED:20230715T105953Z
UID:3147-1689523200-1689528600@pphsrk.fi
SUMMARY:Päivätilaisuus
DESCRIPTION:Erkki Mattila\n\n\n\nHeikki Yli-Hietanen\n\n\n\nSirkku Yli-Hietanen
URL:https://pphsrk.fi/tapahtumat/paivatilaisuus-51/
LOCATION:Rukoushuone\, Ilomäentie 5\, Tampere\, Suomi
ATTACH;FMTTYPE=image/jpeg:https://pphsrk.fi/wp-content/uploads/2023/06/paivatilaisuus8-scaled.jpg
END:VEVENT
END:VCALENDAR